BEGIN:VCALENDAR
VERSION:2.0
PRODID:spatie/icalendar-generator
DESCRIPTION:Eventi da Palazzo Conti di Bricherasio
X-WR-CALDESC:Eventi da Palazzo Conti di Bricherasio
REFRESH-INTERVAL;VALUE=DURATION:PT1440M
X-PUBLISHED-TTL:PT1440M
BEGIN:VTIMEZONE
TZID:Etc/GMT+0
BEGIN:STANDARD
DTSTART:20231213T173000Z
TZOFFSETFROM:+0000
TZOFFSETTO:+0000
END:STANDARD
END:VTIMEZONE
BEGIN:VTIMEZONE
TZID:UTC
BEGIN:STANDARD
DTSTART:20250725T101913Z
TZOFFSETFROM:+0000
TZOFFSETTO:+0000
END:STANDARD
END:VTIMEZONE
BEGIN:VEVENT
UID:6-5
DTSTAMP:20260421T101913Z
SUMMARY:Presentazione del libro dell'autrice Bruna Macaluso
LOCATION:
ORGANIZER;CN=vph3u:MAILTO:tecnico@logicaitalia.com
DTSTART;TZID=Etc/GMT+0:20240908T173000
DTEND;TZID=Etc/GMT+0:20240908T193000
X-ALT-DESC;FMTTYPE=TEXT/HTML:Parole\, illustrazioni e musica: viaggio in un
  affascinante percorso.
CATEGORIES:General
URL;VALUE=URI:https://palazzocontidibricherasio.com/mc-events/presentazione
 -del-libro-dellautrice-bruna-macaluso/?mc_id=6
END:VEVENT
END:VCALENDAR