BEGIN:VCALENDAR
VERSION:2.0
PRODID:spatie/icalendar-generator
DESCRIPTION:Eventi da Palazzo Conti di Bricherasio
X-WR-CALDESC:Eventi da Palazzo Conti di Bricherasio
REFRESH-INTERVAL;VALUE=DURATION:PT1440M
X-PUBLISHED-TTL:PT1440M
BEGIN:VTIMEZONE
TZID:Etc/GMT+0
BEGIN:STANDARD
DTSTART:20231216T180000Z
TZOFFSETFROM:+0000
TZOFFSETTO:+0000
END:STANDARD
END:VTIMEZONE
BEGIN:VTIMEZONE
TZID:UTC
BEGIN:STANDARD
DTSTART:20250725T084857Z
TZOFFSETFROM:+0000
TZOFFSETTO:+0000
END:STANDARD
END:VTIMEZONE
BEGIN:VEVENT
UID:5-4
DTSTAMP:20260421T084857Z
SUMMARY:Detox al Parco
LOCATION:
ORGANIZER;CN=vph3u:MAILTO:tecnico@logicaitalia.com
DTSTART;TZID=Etc/GMT+0:20240911T180000
DTEND;TZID=Etc/GMT+0:20240911T193000
X-ALT-DESC;FMTTYPE=TEXT/HTML:Un incontro speciale tra alimentazione e depur
 azione in un ambiente naturale e pacifico
CATEGORIES:General
URL;VALUE=URI:https://palazzocontidibricherasio.com/mc-events/detox-al-parc
 o/?mc_id=5
END:VEVENT
END:VCALENDAR