BEGIN:VCALENDAR
VERSION:2.0
PRODID:spatie/icalendar-generator
DESCRIPTION:Eventi da Palazzo Conti di Bricherasio
X-WR-CALDESC:Eventi da Palazzo Conti di Bricherasio
REFRESH-INTERVAL;VALUE=DURATION:PT1440M
X-PUBLISHED-TTL:PT1440M
BEGIN:VTIMEZONE
TZID:Etc/GMT+0
BEGIN:STANDARD
DTSTART:20231001T180000Z
TZOFFSETFROM:+0000
TZOFFSETTO:+0000
END:STANDARD
END:VTIMEZONE
BEGIN:VTIMEZONE
TZID:UTC
BEGIN:STANDARD
DTSTART:20250727T105850Z
TZOFFSETFROM:+0000
TZOFFSETTO:+0000
END:STANDARD
END:VTIMEZONE
BEGIN:VEVENT
UID:3-2
DTSTAMP:20260423T105850Z
SUMMARY:Gara podistica competitiva a staffetta
LOCATION:Palazzo Conti di Bricherasio Via Vittorio Emanuele II 7  Bricheras
 io TO 10060
ORGANIZER;CN=vph3u:MAILTO:tecnico@logicaitalia.com
DTSTART;TZID=Etc/GMT+0:20240627T180000
DTEND;TZID=Etc/GMT+0:20240627T190000
X-ALT-DESC;FMTTYPE=TEXT/HTML:L’Ora del Conte - 27 Giugno 2024 ore 18.00
CATEGORIES:General
URL;VALUE=URI:https://palazzocontidibricherasio.com/mc-events/gara-podistic
 a-competitiva-a-staffetta/?mc_id=3
END:VEVENT
END:VCALENDAR